Workbook

Sheet General information
A1: Template for comments
A2: ECB Guide to the internal liquidity adequacy assessment process (ILAAP)
A4: Institution/Company
A5: European Banking Federation
A7: Contact person
A8: Mr/Ms
A9: Mr
A11: First name
A12: Saif
A14: Surname
A15: Chaibi
A17: Email address
... A20: Telephone number
A21: 3225083711
A24: General comments
A25: • The EBF welcomes the ECB willingness to ensure a gradual and proportionate introduction of the ILAAP requirements such as mentioned in the Guide. • We recommend the ECB to consider that some banking groups will face difficulties in defining credible reverse stress testing scenarios due to the very high level of their liquidity buffers. • We recommend the ECB to clarify if the introduction of stress-testing programme for the normative perspectives refers to the inclusion of future normative and regulatory requirements or to the definition of revised and stressed conditions applying to stressed regulatory ratios. The EBF supports the first option. • More insight on how to capture possible links between liquidity and solvency stress tests would be appreciated.

Sheet Comments
A1: Template for comments
A2: ='General information'!A2:I2 -> ECB Guide to the internal liquidity adequacy assessment process (ILAAP)
A3: Please enter all your feedback in this list. When entering feedback, please make sure that: - each comment deals with a single issue only; - you indicate the relevant article/chapter/paragraph, where appropriate; - you indicate whether your comment is a proposed amendment, clarification or deletion.
A5: Deadline: | C5: 4 May 2018
A7: ID | B7: Chapter | C7: Paragraph | D7: Page | E7: Type of comment | F7: Detailed comment | G7: Concise statement as to why your comment should be taken on board | H7: Name of commenter | I7: Personal data
A8: 1 | B8: Scope and proportionality | C8: 14 | D8: 4 | E8: Clarification | F8: The application date of the "ECB Guide to the ILAAP" is not mentioned. We wonder if credit institutions will have to comply by 2019. We ask for the introduction of a dedicated paragraph considering that the "ECB Guide to the ILAAP" should be considered gradually and proportionately by credit institutions, on a case by case basis. | G8: In order to clarify requirements for both credit institutions & supervisory authorities, we ask for more clarifications regarding the application date of the ECB requirements. | H8: ='General information'!A15&", "&'General information'!A12 -> Chaibi, Saif | I8: =IF(Lookup!A24,"Don't publish","Publish") -> Publish
A9: 2 | B9: Principle 1 | C9: 19 | D9: 6 | E9: Clarification | F9: It should be clarified that ILAAP outcomes and assumptions backtesting do not concern Stress tests. Indeed, only a crisis can properly backtest a stress scenario. | G9: We ask for clarification on how and on which scope ILAAP backtesting should be performed. | H9: ='General information'!A15&", "&'General information'!A12 -> Chaibi, Saif | I9: =IF(Lookup!A24,"Don't publish","Publish") -> Publish
A10: 3 | B10: Principle 2 | C10: The ILAAP and the risk appetite framework | D10: 10 | E10: Deletion | F10: Considering the lack of guidelines covering the risk appetite statement, we ask for a deletion of the link between the risk appetite statement (RAS) and the risk appetite framework (RAF). We ask the ECB to define guidelines on the risk appetite statement. | G10: We ask for dedicated guidelines on the risk appetite statement (RAS). | H10: ='General information'!A15&", "&'General information'!A12 -> Chaibi, Saif | I10: =IF(Lookup!A24,"Don't publish","Publish") -> Publish
A11: 4 | B11: Principle 2 | C11: 28-31 | D11: 11 | E11: Deletion | F11: The RAF and RAS exercise should be clearly defined in a dedicated guideline. These guidelines are not appropriate to provide a definition of the RAF. | G11: A specific guideline to define the RAF and the RAS. | H11: ='General information'!A15&", "&'General information'!A12 -> Chaibi, Saif | I11: =IF(Lookup!A24,"Don't publish","Publish") -> Publish
A12: 5 | B12: Principle 2 | C12: 28 | D12: 10 | E12: Clarification | F12: It should be clarified if the risk appetite framework (RAF) is either an input or an output of the ILAAP and how does they interplay. | G12: It is not cristal clear how risk appetite framework (RAF) interplays with the ILAAP. | H12: ='General information'!A15&", "&'General information'!A12 -> Chaibi, Saif | I12: =IF(Lookup!A24,"Don't publish","Publish") -> Publish
A13: 6 | B13: Principle 3 | C13: 44-45 | D13: 16 | E13: Deletion | F13: The new ECB guide requires institutions to forecast the LCR under normal and adverse scenarios over a period of three years. It should be clarified that whilst the LCR is a daily measure, daily forecasting is not required over the 3 year period rather that forecasting should be completed at an appropriate frequency so as to provide assurance of compliance with regulatory requirements over the proposed horizon of 3 years, thereby recognising the concept of proportionality. | G13: Proportionality in the forecasting of compliance with regulatory requirements under stress conditions. | H13: ='General information'!A15&", "&'General information'!A12 -> Chaibi, Saif | I13: =IF(Lookup!A24,"Don't publish","Publish") -> Publish
A14: 7 | B14: Principle 3 | C14: 44 | D14: 15 | E14: Amendment | F14: If we consider both paragraphs 39 and 44, it should be clarified in article 44 that forward-looking horizon are expected to capture : - one year for the liquidity position; - three years or more for the funding position. | G14: We ask for more consistency between paragraphs 39 and 44. | H14: ='General information'!A15&", "&'General information'!A12 -> Chaibi, Saif | I14: =IF(Lookup!A24,"Don't publish","Publish") -> Publish
A15: 8 | B15: Principle 3 | C15: 45 | D15: 16 | E15: Clarification | F15: We understand that the new ECB guide requires institutions to forecast the LCR under normal and adverse scenarios over a period of one year. Given the calibration of the LCR, a long-term projection is not reasonable as i) the LCR is already calibrated under stress conditions. Therefore calculating it under adverse scenarios would lead to a double-stress calculation ii) the LCR is highly dependent on short-term steering measures (e.g. reverse repos on nHQLA or collateral swaps) which can hardly be projected over various months. Therefore, we would like to ask the regulator to clarify the expected projection horizon of the LCR. | G15: Impact on IT expenses of the banks. | H15: ='General information'!A15&", "&'General information'!A12 -> Chaibi, Saif | I15: =IF(Lookup!A24,"Don't publish","Publish") -> Publish
A16: 9 | B16: Principle 3 | C16: 46 | D16: 15 | E16: Clarification | F16: It should be clarified that the same scenario and the same assumptions apply to the projections under economic and normative perspectives. | G16: We ask for clarifications on scenarios and assumptions | H16: ='General information'!A15&", "&'General information'!A12 -> Chaibi, Saif | I16: =IF(Lookup!A24,"Don't publish","Publish") -> Publish
A17: 10 | B17: Principle 3 | C17: 48 | D17: 16 | E17: Clarification | F17: Paragraph 48 states that “In addition to projections that include management actions, the institution is expected to assess its liquidity and funding position under the economic and normative perspectives in the same scenarios without management actions”. It should be clarified as to what constitutes a management action. For example the use of liquid assets or other contingent liquidity that can be used to obtain liquidity from market participants and/or monetary authority facilities should not be taken to constitute a management action whereas the sale of a loan portfolio or the raising of additional deposits may constitute a management action. In any event, management actions should be fully permitted in stress as it is not realistic to assume that management would not take any action during a stress scenario. | G17: Clarification on management actions | H17: ='General information'!A15&", "&'General information'!A12 -> Chaibi, Saif | I17: =IF(Lookup!A24,"Don't publish","Publish") -> Publish
A18: 11 | B18: Principle 2 | C18: 32 | D18: 11 | E18: Clarification | F18: The guidelines require the institution to have in place a policy regarding the use of public funding sources. Banks tend to diversify their sources of funding and to exploit each of them according to their needs. Public funding sources are included among the sources that the bank address. Stating specific guidelines on a policy may reduce the funding flexibility of banks both in ordinary and in stressed conditions. Furthermore, the sentence “such policies … be explicitly considered in the risk appetite (timing and amount) and liquidity adequacy statements” is not clear if it intends to recommend the bank to have specific limitations or constraints in the use of ECB / central banks funding sources. | G18: It may have a material impact on the daily operation of Banks' Treasuries. We ask for more flexibility for any kind of public funding sources, even if footnote number 13 seams to focus only on ECB sources. | H18: ='General information'!A15&", "&'General information'!A12 -> Chaibi, Saif | I18: =IF(Lookup!A24,"Don't publish","Publish") -> Publish
A19: 12 | B19: Principle 6 | C19: 66 vs 71 | D19: 24-25 | E19: Clarification | F19: The paragraph “Risks are not expected to be excluded from the assessment because they are difficult to quantify or the relevant data are not available. In such cases, the institution is expected to determine sufficiently conservative risk figures, taking into consideration all relevant information and ensuring adequacy and consistency in its choice of risk quantification methodologies.” seems to be not perfectly aligned with “the institution is not expected to implement risk quantification methodologies that it does not fully understand” | G19: A clarification on the bank would make the guidelines more linear | H19: ='General information'!A15&", "&'General information'!A12 -> Chaibi, Saif | I19: =IF(Lookup!A24,"Don't publish","Publish") -> Publish
A20: 13 | B20: Principle 4 | C20: 54 | D20: 18 | E20: Deletion | F20: Although required by the EBA’s guidelines, the specific shadow banking risk should not be mentioned in a document following a principle based approach | G20: As the document is principle based and do not substitute or supersede any other text, there is no reason to mention the specific shadow banking risk | H20: ='General information'!A15&", "&'General information'!A12 -> Chaibi, Saif | I20: =IF(Lookup!A24,"Don't publish","Publish") -> Publish
A21: 14 | B21: Principle 4 | C21: 57 and 58 | D21: 19 | E21: Deletion | F21: We ask for removal of the specific risks listed in the document as it deals with Principles | G21: We ask for the removal | H21: ='General information'!A15&", "&'General information'!A12 -> Chaibi, Saif | I21: =IF(Lookup!A24,"Don't publish","Publish") -> Publish
A22: 15 | B22: Principle 5 | C22: 63 | D22: 21 | E22: Deletion | F22: Paragraph 63 states that “An explicit internal view is expected to be formed on the desired composition of the buffers of liquid assets used to cover liquidity risks. In particular, the institution is expected to differentiate between assets that are highly likely to remain liquid during times of stress and assets that can only be used to obtain liquidity from central banks. Internal limits are expected to be set for both components” Through the LCR Delegated Act, institutions are already required to hold an adequately diversified buffer of liquid assets (HQLA), having regard to their relative liquidity and credit quality. The Delegated Act is also specifically silent on how liquid assets can be monetised Assets which can be only be used to obtain liquidity from central banks represent an important source of contingent liquidity for institutions. In the context that the Delegated Act allows institutions to breach minimum LCR requirements in stress, it is unrealistic to require an internal limit on the utilisation of such liquid assets in a stress scenario. | H22: ='General information'!A15&", "&'General information'!A12 -> Chaibi, Saif | I22: =IF(Lookup!A24,"Don't publish","Publish") -> Publish
A23: 16 | B23: Principle 7 | C23: 76 | D23: 26 | E23: Clarification | F23: Some prudential ratios are regulatory stressed, it should be clarified that the prudential framework considers a stressed perspective. | G23: We ask for clarification on the normative perspective of stress testing programmes. | H23: ='General information'!A15&", "&'General information'!A12 -> Chaibi, Saif | I23: =IF(Lookup!A24,"Don't publish","Publish") -> Publish
A24: 17 | B24: Principle 7 | C24: 77 | D24: 26 | E24: Deletion | F24: The transferability of the liquidity has to be taken into account and it is regarding the law and regulations in force in the countries . Under stressed conditions the regulations might change . That is what happened in 2011 during the liquidity crisis , local regulators changed the rules to prevent from a deeper crisis and forbid the liquidity transfer outside of the country ( that was the case for Poland for instance) . But it is very difficult to anticipate these changes in a stress scenario. The stress scenario cannot take into account hypothetical changes of the legal framework | G24: As we cannot include in our stress scenario hypothetical changes of the legal framework, we ask for the deletion of his part | H24: ='General information'!A15&", "&'General information'!A12 -> Chaibi, Saif | I24: =IF(Lookup!A24,"Don't publish","Publish") -> Publish
A25: 18 | B25: Principle 7 | C25: 78 to 80 | D25: 27 | E25: Clarification | F25: Paragraph 80 adequately states that there are a « range of adverse scenarios » while paragraph 70 seems to imply there is only one particular degree of severity. | G25: Please, clarify that paragraph 79 deals with « the most adverse » scenarios. | H25: ='General information'!A15&", "&'General information'!A12 -> Chaibi, Saif | I25: =IF(Lookup!A24,"Don't publish","Publish") -> Publish
A26: 19 | B26: Principle 7 | C26: Example 7.1 | D26: 28 | E26: Amendment | F26: If we understand the example of interaction between ICAAP and ILAAP stress tests, we ask for an example of interaction between ILAAP and ICAAP stress tests. | G26: We ask for another example. | H26: ='General information'!A15&", "&'General information'!A12 -> Chaibi, Saif | I26: =IF(Lookup!A24,"Don't publish","Publish") -> Publish
A27: 20 | B27: Principle 7 | C27: Example 7.2 | D27: 28 | E27: Amendment | F27: It should be considered that for some banking groups, as regards the very high level of their liquidity buffers, it is difficult to define credible reverse stress testing scenarios leading to exhaust liquidity buffers, except either on a mechanical basis (e.g. homogenous increase of all parameters) or by shocking risk drivers beyond liquidity. | G27: We ask for a proportionate and credible approach of reverse stress testing scenarios. | H27: ='General information'!A15&", "&'General information'!A12 -> Chaibi, Saif | I27: =IF(Lookup!A24,"Don't publish","Publish") -> Publish
A28: 21 | B28: Principle 1 | C28: 18 | D28: 6 | E28: Clarification | F28: It is common for the Banks to review the liquidity impact in case of new services and products. Does this cover your definition of “proactive adjustment”? | H28: ='General information'!A15&", "&'General information'!A12 -> Chaibi, Saif | I28: =IF(Lookup!A24,"Don't publish","Publish") -> Publish
A29: 22 | B29: Principle 2 | C29: (ii) | D29: 8 | E29: Amendment | F29: The monitoring of intraday liquidity is based on specific metrics that are monitored by the Treasury unit on a continuous basis through the day (cumulative outflows & inflows, available buffer, time schedule of payments etc.). The term «indicators» can be misleading in this context | H29: ='General information'!A15&", "&'General information'!A12 -> Chaibi, Saif | I29: =IF(Lookup!A24,"Don't publish","Publish") -> Publish
A30: 23 | B30: Principle 2 | C30: 29 | D30: 10 | E30: Clarification | F30: Please confirm that the RAF should include motivations for taking on or avoiding types of risks, products and regions. It is not common to make specific motivations on RAF. Do you mean general statements and not specific? | H30: ='General information'!A15&", "&'General information'!A12 -> Chaibi, Saif | I30: =IF(Lookup!A24,"Don't publish","Publish") -> Publish
A31: 24 | B31: Principle 2 | C31: 34 | D31: 11 | E31: Clarification | F31: Please provide more information regarding the coherence that is required for ILAAP across the relevant levels of consolidation. You should acknowledge that the characteristics of each market are taken into account for the ILAAP of each subsidiary and that each subsidiary may follow its own ILAAP format based on its particular needs and environment | H31: ='General information'!A15&", "&'General information'!A12 -> Chaibi, Saif | I31: =IF(Lookup!A24,"Don't publish","Publish") -> Publish
A32: 25 | B32: Principle 7 | C32: 82 | D32: 27 | E32: Clarification | F32: We believe that the statement is too strong. ILAAP stress test is of a different nature, time horizon and severity compared to the ICAAP stress test. While adverse funding conditions will most certainly be a part of any ICAAP framework, integrating ILAAP and ICAAP stress test assumptions into a single set may lead to projections which are overly conservative and / or misleading | H32: ='General information'!A15&", "&'General information'!A12 -> Chaibi, Saif | I32: =IF(Lookup!A24,"Don't publish","Publish") -> Publish
A33: 26 | B33: Principle 1 | C33: 15 and 21 | D33: 5 and 7 | E33: Amendment | F33: According to the guide, “The management body is expected to produce and sign the LAS […]”. “The authority to sign the LAS on behalf of the management body is expected to be decided by the institution in the light of national regulations and relevant prudential requirements and guidelines.” | G33: Please note that the formal execution of the LAS would not increase the stringent diligence duty the management body has to comply with in each and all of its decisions, and it would add more operational complexity. Additionally, the expectation that the document is signed on behalf of the management body is a mere formality which is not consistent with the decision-making process of the management bodies (through voting majorities) foreseen in national regulations. Therefore, we suggest amending the wording as follows: “the management body is expected to produce and approve the LAS.” | H33: ='General information'!A15&", "&'General information'!A12 -> Chaibi, Saif | I33: =IF(Lookup!A24,"Don't publish","Publish") -> Publish
A34: 27 | B34: Principle 1 | C34: 15 | D34: 5 and 6 | E34: Amendment / Deletion | F34: “The management body is expected to […] approve the key elements of the ILAAP, for example: the governance framework; internal documentation requirements; the perimeter of entities captured, the risk identification process and the internal risk inventory and taxonomy, reflecting the scope of material risks; risk quantification methodologies, including high-level risk measurement assumptions and parameters (e.g. time horizon, confidence levels, and maturity profile), supported by reliable data and sound data aggregation systems; methodologies used to assess liquidity adequacy (including the stress-testing framework and a well-articulated definition of liquidity adequacy), quality assurance of the ILAAP, particularly with regard to key inputs for the LAS (including the set-up and role of internal validation, the use of self-assessment against applicable rules, regulations and supervisory expectations, controls in place for validating the institution’s data, stress test results, models applied, etc.”. | G34: The management body defines and oversees the implementation of the strategy, key policies and governance arrangements to ensure effective and prudent management of the institution (EBA guidelines on internal governance, Title II, section 1). The operational implementation of these strategies on a day-to-day basis, on the other hand, corresponds to the senior management. In our opinion, some of the elements listed as examples of those matters expected to be approved by the management body (such as the “internal documentation requirements” or the “risk identification process“) cannot be considered “key” or strategic elements of the ILAAP. Instead, they are part of the day-to-day liquidity management and, as such, within the remit of the senior management. In particular, we suggest the following amendments / deletions: • Delete “internal documentation requirements” for its minor relevance; • Amend the reference that the management body is expected to approve “the risk identification process and the internal risk inventory and taxonomy”; as it is not consistent with paragraph 55, stating that the management body is also responsible for deciding which types of risk are material and to be covered by liquidity. Amend the paragraph regarding “risk quantification methodologies”, including a reference to the governance framework and the role and responsibilities of the management body regarding risk quantification methodologies and ILAAP established in other ECB Guides and supervisory guidelines, to ensure consistency. | H34: ='General information'!A15&", "&'General information'!A12 -> Chaibi, Saif | I34: =IF(Lookup!A24,"Don't publish","Publish") -> Publish
A35: 28 | B35: Principle 1 | C35: 15 and 21 | D35: 5 and 7 | E35: Amendment | F35: According to the guide, “The management body is expected to produce and sign the LAS […]”. “The authority to sign the LAS on behalf of the management body is expected to be decided by the institution in the light of national regulations and relevant prudential requirements and guidelines.” | G35: Please note that the formal execution of the LAS would not increase the stringent diligence duty the management body has to comply with in each and all of its decisions, and it would add more operational complexity. "Additionally, the expectation that the document is signed on behalf of the management body is a mere formality which is not consistent with the decision-making process of the management bodies (through voting majorities) foreseen in national regulations. Additionally, the expectation that the document is signed on behalf of the management body is a mere formality which is not consistent with the decision-making process of the management bodies (through voting majorities) foreseen in national regulations. Therefore, we suggest amending the wording as follows: “the management body is expected to produce and approve the LAS.” " | H35: ='General information'!A15&", "&'General information'!A12 -> Chaibi, Saif | I35: =IF(Lookup!A24,"Don't publish","Publish") -> Publish
A36: 29 | H36: ='General information'!A15&", "&'General information'!A12 -> Chaibi, Saif | I36: =IF(Lookup!A24,"Don't publish","Publish") -> Publish
A37: 30 | H37: ='General information'!A15&", "&'General information'!A12 -> Chaibi, Saif | I37: =IF(Lookup!A24,"Don't publish","Publish") -> Publish
A38: 31 | H38: ='General information'!A15&", "&'General information'!A12 -> Chaibi, Saif | I38: =IF(Lookup!A24,"Don't publish","Publish") -> Publish
A39: 32 | H39: ='General information'!A15&", "&'General information'!A12 -> Chaibi, Saif | I39: =IF(Lookup!A24,"Don't publish","Publish") -> Publish
A40: 33 | H40: ='General information'!A15&", "&'General information'!A12 -> Chaibi, Saif | I40: =IF(Lookup!A24,"Don't publish","Publish") -> Publish
A41: 34 | H41: ='General information'!A15&", "&'General information'!A12 -> Chaibi, Saif | I41: =IF(Lookup!A24,"Don't publish","Publish") -> Publish
A42: 35 | H42: ='General information'!A15&", "&'General information'!A12 -> Chaibi, Saif | I42: =IF(Lookup!A24,"Don't publish","Publish") -> Publish
...

Sheet Lookup
C2: 1- Introduction
C3: Purpose
C4: Scope and proportionality
C5: 2 - Principles
C6: Principle 1
C7: Principle 2
C8: Principle 3
C9: Principle 4
C10: Principle 5
C11: Principle 6
C12: Principle 7
C13: Glossary
A20: Amendment
A21: Clarification
A22: Deletion
A24: FALSE
